BEGIN:VCALENDAR
VERSION:2.0
PRODID:-//pretix//pretix.eu//
BEGIN:VEVENT
UID:pretix-schoolofvoice-2026-01-24-0@tickets.schoolofvoice.berlin
DTSTART;VALUE=DATE:20260124
DTEND;VALUE=DATE:20260125
DESCRIPTION:Tickets: https://tickets.schoolofvoice.berlin/2026-01-24/\nAdmi
 ssion: 2026-01-24 18:30\nOrganizer: Kara Johnstad School Of Voice
DTSTAMP:20260419T130444Z
LOCATION:Al Hamra "Jazz Keller"\, Raumer Str. 16\, 10437 Berlin
SUMMARY:Singers’ Night — School of Voice
END:VEVENT
END:VCALENDAR
